BEGIN:VCALENDAR
VERSION:2.0
PRODID:gruene-breisgau-hochschwarzwald.de
METHOD:PUBLISH
BEGIN:VTIMEZONE
TZID:Europe/Berlin
X-LIC-LOCATION:Europe/Berlin
BEGIN:DAYLIGHT
TZOFFSETFROM:+0100
TZOFFSETTO:+0200
TZNAME:CEST
DTSTART:19700329T020000
RRULE:FREQ=YEARLY;INTERVAL=1;BYDAY=-1SU;BYMONTH=3
END:DAYLIGHT
BEGIN:STANDARD
TZOFFSETFROM:+0200
TZOFFSETTO:+0100
TZNAME:CET
DTSTART:19701025T030000
RRULE:FREQ=YEARLY;INTERVAL=1;BYDAY=-1SU;BYMONTH=10
END:STANDARD
END:VTIMEZONE
BEGIN:VEVENT
UID:0e8cde0c7628a8fdd212da25e154016a@gruene-breisgau-hochschwarzwald.de
URL;VALUE=URI:https://gruene-breisgau-hochschwarzwald.de/termine/topf-tri
 fft-talk-kostenloser-kochabend/
LOCATION:auf Anfrage, Müllheim
SUMMARY:Topf trifft Talk – kostenloser Kochabend
DESCRIPTION;ALTREP="data:text/html,%0A%3Cp%3EAnmeldung%20an%3A%20%3Ca%20h
 ref%3D%22mailto%3ATalktriffttopf%40outlook.com%22%3Etopftrifftalk%40outlo
 ok.com%3C%2Fa%3E%3C%2Fp%3E%0A%0A%0A%0A%3Cp%3E%3C%2Fp%3E%0A%0A%0A%0A%3Cfig
 ure%20class%3D%22wp-block-image%20size-large%22%3E%3Cimg%20src%3D%22https
 %3A%2F%2Fgruene-breisgau-hochschwarzwald.de%2Fwp-content%2Fuploads%2Fsite
 s%2F3%2F2025%2F11%2Fd83557c5d0a53f36260bf8826e532bb8048bc149634f126c0f038
 9b8881dedbf-1-800x1131.jpg%22%20alt%3D%22%22%20class%3D%22wp-image-21452%
 22%20%2F%3E%3C%2Ffigure%3E%0A":Anmeldung an: topftrifftalk@outlook.com
CLASS:PUBLIC
DTSTART;TZID=Europe/Berlin:20251130T173000
DTEND;TZID=Europe/Berlin:20251130T183000
DTSTAMP:20260421T095715
END:VEVENT
END:VCALENDAR