BEGIN:VCALENDAR
VERSION:2.0
PRODID:gruene-breisgau-hochschwarzwald.de
METHOD:PUBLISH
BEGIN:VTIMEZONE
TZID:Europe/Berlin
X-LIC-LOCATION:Europe/Berlin
BEGIN:DAYLIGHT
TZOFFSETFROM:+0100
TZOFFSETTO:+0200
TZNAME:CEST
DTSTART:19700329T020000
RRULE:FREQ=YEARLY;INTERVAL=1;BYDAY=-1SU;BYMONTH=3
END:DAYLIGHT
BEGIN:STANDARD
TZOFFSETFROM:+0200
TZOFFSETTO:+0100
TZNAME:CET
DTSTART:19701025T030000
RRULE:FREQ=YEARLY;INTERVAL=1;BYDAY=-1SU;BYMONTH=10
END:STANDARD
END:VTIMEZONE
BEGIN:VEVENT
UID:75862a23fcea444150e05f44f2b7c743@gruene-breisgau-hochschwarzwald.de
URL;VALUE=URI:https://gruene-breisgau-hochschwarzwald.de/termine/spezialr
 ad-messe-mit-dem-ak-mobilitaet/
LOCATION:Messe Freiburg, Neuer Messplatz 1, Freiburg
SUMMARY:Spezialrad-Messe mit dem AK Mobilität
DESCRIPTION;ALTREP="data:text/html,%0A%3Cp%3EDer%20Arbeitskreis%20Mobilit
 %C3%A4t%20macht%20einen%20Ausflug%20zur%20%3Cstrong%3ESpezialradmesse%3C%
 2Fstrong%3E%20in%20Freiburg%2C%20bei%20dem%20Mitglieder%20und%20Interessi
 erte%20eine%20kostenlose%20F%C3%BChrung%20um%2013%3A00%20Uhr%20%C3%BCber%
 20das%20Gel%C3%A4nde%20erhalten.%20Ein%20Ticket%20zur%20Messe%20ist%20not
 wendig.%20Bitte%20anmelden%20bei%20%3Ca%20href%3D%22https%3A%2F%2Fgruene-
 freiburg.de%2Fak-mobilitaet-2%2F%23%22%3Eak-mobilitaet%40gruene-freiburg.
 de%3C%2Fa%3E%3C%2Fp%3E%0A%0A%0A%0A%3Cp%3EVor%20Ort%20gibt%20es%20von%2015
 %3A00%20-%2017%3A00%20eine%20Podiumsdiskussion%20mit%20Nadyne%20Saint-Cas
 t%20MdL%20der%20Gr%C3%BCnen%20zum%20Thema%3A%3C%2Fp%3E%0A%0A%0A%0A%3Cp%3E
 Diversifizierung%20im%20Verkehr%20%E2%80%93%20wie%20schaffen%20und%20resp
 ektieren%20wir%20gegenseitige%20R%C3%A4ume%3F%3Cbr%3EPolitische%20Perspek
 tive%20auf%20Nutzungskonflikte%3C%2Fp%3E%0A%0A%0A%0A%3Cp%3EEinordnung%20z
 ur%20aktuellen%20verkehrspolitischen%20Debatte%20%28TBA%29%3Cbr%3ENadyne%
 20Saint-Cast%20von%20B%C3%9CNDNIS%2090%2FDIE%20GR%C3%9CNEN%3Cbr%3EFl%C3%A
 4chengerechtigkeit%20und%20gesellschaftliche%20Dimensionen%3Cbr%3EInput%2
 0aus%20der%20Mobilit%C3%A4tsforschung%3Cbr%3EClaudia%20Hille%20Professori
 n%20f%C3%BCr%20Radverkehr%20%7C%20Mobilit%C3%A4tsforscherin%3Cbr%3EVielfa
 lt%20der%20Verkehrsteilnehmenden%20%28Kurzinputs%205%E2%80%937%20Minuten%
 29%3Cbr%3EWelche%20unterschiedlichen%20Nutzer%2Ainnengruppen%20bewegen%20
 sich%20im%20st%C3%A4dtischen%20Verkehr%20%E2%80%93%20und%20mit%20welchen%
 20Bed%C3%BCrfnissen%3F%3Cbr%3EVCD%20%E2%80%93%20%C3%96ffentlicher%20Perso
 nennahverkehr%20%E2%80%93%20Monika%20Zimmermann%3Cbr%3EADFC%20%E2%80%93%2
 0Radverkehr%20%E2%80%93%20Manuela%20Wucherer%3Cbr%3EFuss%20e.V.%20%E2%80%
 93%20Fu%C3%9Fg%C3%A4ngerverkehr%20%E2%80%93%20Roland%20Stimpel%3Cbr%3ERLV
 D%20%E2%80%93%20Wirtschaftsverkehr%20%E2%80%93%20Dr.%20Tom%20Assmann%3Cbr
 %3EACE%20%E2%80%93%20Autoverkehr%20%E2%80%93%20Sven%20H%C3%BCbschen%3Cbr%
 3E%3C%2Fp%3E%0A%0A%0A%0A%3Cp%3EGemeinsame%20Podiumsdiskussion%20%26amp%3B
 %20Austausch%3Cbr%3E%3C%2Fp%3E%0A%0A%0A%0A%3Cp%3EWelche%20strukturellen%2
 C%20rechtlichen%20und%20gesellschaftlichen%20H%C3%BCrden%20stehen%20einem
 %20harmonischen%20Verkehrsfluss%20im%20Weg%3F%3Cbr%3EWie%20k%C3%B6nnen%20
 Nutzungskonflikte%20reduziert%20und%20gegenseitige%20R%C3%BCcksichtnahme%
 20gef%C3%B6rdert%20werden%3F%3C%2Fp%3E%0A":Der Arbeitskreis Mobilität ma
 cht einen Ausflug zur Spezialradmesse in Freiburg\, bei dem Mitglieder un
 d Interessierte eine kostenlose Führung um 13:00 Uhr über das Gelände 
 erhalten. Ein Ticket zur Messe ist notwendig. Bitte anmelden bei ak-mobil
 itaet@gruene-freiburg.de\n\nVor Ort gibt es von 15:00 - 17:00 eine Podium
 sdiskussion mit Nadyne Saint-Cast MdL der Grünen zum Thema:\n\nDiversifi
 zierung im Verkehr – wie schaffen und respektieren wir gegenseitige Rä
 ume?Politische Perspektive auf Nutzungskonflikte\n\nEinordnung zur aktuel
 len verkehrspolitischen Debatte (TBA)Nadyne Saint-Cast von BÜNDNIS 90/DI
 E GRÜNENFlächengerechtigkeit und gesellschaftliche DimensionenInput aus
  der MobilitätsforschungClaudia Hille Professorin für Radverkehr | Mobi
 litätsforscherinVielfalt der Verkehrsteilnehmenden (Kurzinputs 5–7 Min
 uten)Welche unterschiedlichen Nutzer*innengruppen bewegen sich im städti
 schen Verkehr – und mit welchen Bedürfnissen?VCD – Öffentlicher Per
 sonennahverkehr – Monika ZimmermannADFC – Radverkehr – Manuela Wuch
 ererFuss e.V. – Fußgängerverkehr – Roland StimpelRLVD – Wirtschaf
 tsverkehr – Dr. Tom AssmannACE – Autoverkehr – Sven Hübschen\n\nGe
 meinsame Podiumsdiskussion & Austausch\n\nWelche strukturellen\, rechtlic
 hen und gesellschaftlichen Hürden stehen einem harmonischen Verkehrsflus
 s im Weg?Wie können Nutzungskonflikte reduziert und gegenseitige Rücksi
 chtnahme gefördert werden?
CLASS:PUBLIC
DTSTART;TZID=Europe/Berlin:20260425T130000
DTEND;TZID=Europe/Berlin:20260425T170000
DTSTAMP:20260424T141733
END:VEVENT
END:VCALENDAR