BEGIN:VCALENDAR
VERSION:2.0
PRODID:gruene-breisgau-hochschwarzwald.de
METHOD:PUBLISH
BEGIN:VTIMEZONE
TZID:Europe/Berlin
X-LIC-LOCATION:Europe/Berlin
BEGIN:DAYLIGHT
TZOFFSETFROM:+0100
TZOFFSETTO:+0200
TZNAME:CEST
DTSTART:19700329T020000
RRULE:FREQ=YEARLY;INTERVAL=1;BYDAY=-1SU;BYMONTH=3
END:DAYLIGHT
BEGIN:STANDARD
TZOFFSETFROM:+0200
TZOFFSETTO:+0100
TZNAME:CET
DTSTART:19701025T030000
RRULE:FREQ=YEARLY;INTERVAL=1;BYDAY=-1SU;BYMONTH=10
END:STANDARD
END:VTIMEZONE
BEGIN:VEVENT
UID:b5ca9944a98c0970bb413ad92d3fd932@gruene-breisgau-hochschwarzwald.de
URL;VALUE=URI:https://gruene-breisgau-hochschwarzwald.de/termine/ov-march
 -umkirch-mitgliederversammlung-mit-vorstandswahl/
LOCATION:Ristorante Pizzeria Capriccio, Landstraße 3, March
SUMMARY:Mitgliederversammlung der GRÜNEN March-Umkirch
DESCRIPTION;ALTREP="data:text/html,%0A%3Ch2%20class%3D%22wp-block-heading
 %22%3ETagesordnung%3A%3C%2Fh2%3E%0A%0A%0A%0A%3Col%20class%3D%22wp-block-l
 ist%22%3E%0A%3Cli%3EBegr%C3%BC%C3%9Fung%2C%20Formales%3C%2Fli%3E%0A%0A%0A
 %0A%3Cli%3ESatzungsfrage%3C%2Fli%3E%0A%0A%0A%0A%3Cli%3ENeuwahlen%20Vorsta
 nd%3C%2Fli%3E%0A%0A%0A%0A%3Cli%3EBericht%20aus%20der%20Fraktion%3C%2Fli%3
 E%0A%0A%0A%0A%3Cli%3EVerschiedenes%3C%2Fli%3E%0A%3C%2Fol%3E%0A":Tagesordn
 ung:\n\nBegrüßung\, Formales\n\nSatzungsfrage\n\nNeuwahlen Vorstand\n\n
 Bericht aus der Fraktion\n\nVerschiedenes
CLASS:PUBLIC
DTSTART;TZID=Europe/Berlin:20250516T190000
DTEND;TZID=Europe/Berlin:20250516T200000
DTSTAMP:20260421T095426
END:VEVENT
END:VCALENDAR