BEGIN:VCALENDAR
VERSION:2.0
PRODID:gruene-breisgau-hochschwarzwald.de
METHOD:PUBLISH
BEGIN:VTIMEZONE
TZID:Europe/Berlin
X-LIC-LOCATION:Europe/Berlin
BEGIN:DAYLIGHT
TZOFFSETFROM:+0100
TZOFFSETTO:+0200
TZNAME:CEST
DTSTART:19700329T020000
RRULE:FREQ=YEARLY;INTERVAL=1;BYDAY=-1SU;BYMONTH=3
END:DAYLIGHT
BEGIN:STANDARD
TZOFFSETFROM:+0200
TZOFFSETTO:+0100
TZNAME:CET
DTSTART:19701025T030000
RRULE:FREQ=YEARLY;INTERVAL=1;BYDAY=-1SU;BYMONTH=10
END:STANDARD
END:VTIMEZONE
BEGIN:VEVENT
UID:eae2e2c34a21252bd35085479e390f38@gruene-breisgau-hochschwarzwald.de
URL;VALUE=URI:https://gruene-breisgau-hochschwarzwald.de/termine/gruene-b
 uehne-mit-gerhard-zickenheiner/
LOCATION:Markgräfler Platz, Müllheim
SUMMARY:Hitze und Starkregen, schaffen unsere Orte das? Wie wollen wir de
 n aktuellen Herausforderungen begegnen?
DESCRIPTION;ALTREP="data:text/html,":
CLASS:PUBLIC
DTSTART;TZID=Europe/Berlin:20210917T190000
DTEND;TZID=Europe/Berlin:20210917T200000
DTSTAMP:20260421T094030
END:VEVENT
END:VCALENDAR