BEGIN:VCALENDAR
VERSION:2.0
PRODID:gruene-breisgau-hochschwarzwald.de
METHOD:PUBLISH
BEGIN:VTIMEZONE
TZID:Europe/Berlin
X-LIC-LOCATION:Europe/Berlin
BEGIN:DAYLIGHT
TZOFFSETFROM:+0100
TZOFFSETTO:+0200
TZNAME:CEST
DTSTART:19700329T020000
RRULE:FREQ=YEARLY;INTERVAL=1;BYDAY=-1SU;BYMONTH=3
END:DAYLIGHT
BEGIN:STANDARD
TZOFFSETFROM:+0200
TZOFFSETTO:+0100
TZNAME:CET
DTSTART:19701025T030000
RRULE:FREQ=YEARLY;INTERVAL=1;BYDAY=-1SU;BYMONTH=10
END:STANDARD
END:VTIMEZONE
BEGIN:VEVENT
UID:02dc6a1627259cee8bc4fa3a6a9516ac@gruene-breisgau-hochschwarzwald.de
URL;VALUE=URI:https://gruene-breisgau-hochschwarzwald.de/termine/bahn-fes
 t-fuer-freiburg-colmar-bahn/
LOCATION:Bahnhof Volgelsheim, 2 rue de la Gare, 68600 Volgelsheim
SUMMARY:Bahn-Fest für Freiburg-Colmar-Bahn
DESCRIPTION;ALTREP="data:text/html,%0A%3Cp%3ELiebe%20Mitglieder%20und%20F
 reund%2Ainnen%2C%3C%2Fp%3E%0A%0A%0A%0A%3Cp%3Ewir%20m%C3%B6chten%20Sie%2FE
 uch%20mit%20diesem%20Mail%20auf%20das%20gro%C3%9Fe%20Bahn-Fest%20f%C3%BCr
 %20die%20ganze%20Familie%20aufmerksam%20machen%2C%20dass%20der%20Verein%2
 0%22Trans%20Rhin%20Rail%20Colmar-Freiburg%22%20f%C3%BCr%20die%20Freiburg-
 Colmar-Bahn%20veranstaltet%20am%26nbsp%3B%3C%2Fp%3E%0A%0A%0A%0A%3Cp%3E%3C
 strong%3ESonntag%2C%20dem%2026.%20April%202026%20von%2011%20-%2017%20Uhr%
 20am%20Bahnhof%20von%20Volgelsheim.%3C%2Fstrong%3E%3C%2Fp%3E%0A%0A%0A%0A%
 3Cp%3EMit%20diesem%20Fest%20wollen%20will%20der%20Verein%20mit%20seinen%2
 0Partnern%20auch%20in%20diesem%20Jahr%20wieder%20zeigen%2C%20wie%20wichti
 g%20dieses%20f%C3%BCr%20unsere%20Region%20so%26nbsp%3B%3Cstrong%3Ewichtig
 e%20Bahn-Projekt%26nbsp%3B%3C%2Fstrong%3Eist%2C%20das%20leider%20immer%20
 noch%20nicht%20%22in%20trockenen%20T%C3%BCchern%22%20ist.%26nbsp%3B%3C%2F
 p%3E%0A%0A%0A%0A%3Cp%3ETRR%20hat%20ein%26nbsp%3B%3Cstrong%3Evielf%C3%A4lt
 iges%20Programm%26nbsp%3B%3C%2Fstrong%3Ef%C3%BCr%20Jung%20und%20Alt%20zus
 ammengestellt.%20So%20werden%20verschiedene%20Musikgruppen%20spielen%2C%2
 0es%20wird%20die%20M%C3%B6glichkeit%20geben%2C%20zum%20Sonderpreis%20mit%
 20dem%20Museums-Dampfzug%20zu%20fahren%2C%20f%C3%BCr%20Kinder%20stehen%20
 H%C3%BCpfburgen%2C%20eine%20Mini-Bahn%20zum%20Mitfahren%20und%20ein%20Leg
 o-Konstruktionsspiel%20zur%20Verf%C3%BCgung%2C%20die%20hochinteressante%2
 0Architektur-Ausstellung%20%22Missing%20Links%22%20wird%20dort%20letztmal
 s%20zu%20sehen%20sein%2C%20viele%20Partnerorganisationen%20informieren%20
 %C3%BCber%20ihre%20Arbeit%2C%20verschiedene%20Politiker%2Ainnen%20von%20b
 eiden%20Seiten%20des%20Rheins%20stehen%20zum%20Gespr%C3%A4ch%20zur%20Verf
 %C3%BCgung.%20Au%C3%9Ferdem%20soll%20eine%20Initiative%20f%C3%BCr%20ein%2
 0neuartiges%20Betriebssystem%20f%C3%BCr%20die%20Freiburg-Colmar-Bahn%20vo
 rgestellt%20werden.%3C%2Fp%3E%0A%0A%0A%0A%3Cp%3EUnd%20nat%C3%BCrlich%20is
 t%20auch%20f%C3%BCr%20das%20leibliche%20Wohl%20gesorgt.%3C%2Fp%3E%0A%0A%0
 A%0A%3Cp%3EF%C3%BCr%20die%20Anreise%20zum%20Festgel%C3%A4nde%20wurde%20ei
 n%26nbsp%3B%3Cstrong%3Ekostenloser%20Bus-Shuttle%26nbsp%3B%3C%2Fstrong%3E
 vom%2Fzum%20Bahnhof%20Breisach%20organisiert.%20Den%20Fahrplan%20finden%2
 0Sie%20in%20K%C3%BCrze%20auf%20der%20Website%26nbsp%3B%3Ca%20href%3D%22ht
 tp%3A%2F%2Fwww.freiburg-colmar-bahn.eu%2F%22%3Ewww.Freiburg-Colmar-Bahn.e
 u%3C%2Fa%3E.%3C%2Fp%3E%0A%0A%0A%0A%3Cp%3EUnd%20es%20wird%20auch%20wieder%
 20organisierte%26nbsp%3B%3Cstrong%3EFahrrad-Touren%26nbsp%3B%3C%2Fstrong%
 3Eab%20Freiburg%20%28ADFC%29%20und%20Colmar%20zum%20Fest%20geben.%20Auch%
 20die%20Abfahrtszeiten%20finden%20Sie%20auf%20der%20TRR-Website.%3C%2Fp%3
 E%0A%0A%0A%0A%3Cp%3EIm%20Anhang%20finden%20Sie%20den%20Flyer%20f%C3%BCr%2
 0die%20Veranstaltung.%20F%C3%BCr%20Weitere%20Informationen%20erreichen%20
 Sie%20TRR%20unter%20der%20Telefonnummer%200176-51%2041%2066%2066.%3C%2Fp%
 3E%0A%0A%0A%0A%3Cp%3EWir%20freuen%20uns%20auf%20einen%20regen%20Besuch%20
 unseres%20Bahn-Festes%2C%20um%20der%20Politik%20wieder%20deutlich%20zu%20
 machen%2C%20wie%20wichtig%20uns%20allen%20das%20Projekt%20ist.%3C%2Fp%3E%
 0A%0A%0A%0A%3Cp%3EMit%20freundlichen%20Gr%C3%BC%C3%9Fen%20f%C3%BCr%20den%
 20Vorstand%3C%2Fp%3E%0A%0A%0A%0A%3Cp%3EHannes%20Linck%20und%20Vincent%20D
 enefeld%3C%2Fp%3E%0A%0A%0A%0A%3Cp%3ETrans%20Rhin%20Rail%3C%2Fp%3E%0A":Lie
 be Mitglieder und Freund*innen\,\n\nwir möchten Sie/Euch mit diesem Mail
  auf das große Bahn-Fest für die ganze Familie aufmerksam machen\, dass
  der Verein "Trans Rhin Rail Colmar-Freiburg" für die Freiburg-Colmar-Ba
 hn veranstaltet am \n\nSonntag\, dem 26. April 2026 von 11 - 17 Uhr am B
 ahnhof von Volgelsheim.\n\nMit diesem Fest wollen will der Verein mit sei
 nen Partnern auch in diesem Jahr wieder zeigen\, wie wichtig dieses für 
 unsere Region so wichtige Bahn-Projekt ist\, das leider immer noch nich
 t "in trockenen Tüchern" ist. \n\nTRR hat ein vielfältiges Programm 
 für Jung und Alt zusammengestellt. So werden verschiedene Musikgruppen s
 pielen\, es wird die Möglichkeit geben\, zum Sonderpreis mit dem Museums
 -Dampfzug zu fahren\, für Kinder stehen Hüpfburgen\, eine Mini-Bahn zum
  Mitfahren und ein Lego-Konstruktionsspiel zur Verfügung\, die hochinter
 essante Architektur-Ausstellung "Missing Links" wird dort letztmals zu se
 hen sein\, viele Partnerorganisationen informieren über ihre Arbeit\, ve
 rschiedene Politiker*innen von beiden Seiten des Rheins stehen zum Gespr
 äch zur Verfügung. Außerdem soll eine Initiative für ein neuartiges B
 etriebssystem für die Freiburg-Colmar-Bahn vorgestellt werden.\n\nUnd na
 türlich ist auch für das leibliche Wohl gesorgt.\n\nFür die Anreise zu
 m Festgelände wurde ein kostenloser Bus-Shuttle vom/zum Bahnhof Breisa
 ch organisiert. Den Fahrplan finden Sie in Kürze auf der Website www.Fr
 eiburg-Colmar-Bahn.eu.\n\nUnd es wird auch wieder organisierte Fahrrad-T
 ouren ab Freiburg (ADFC) und Colmar zum Fest geben. Auch die Abfahrtszei
 ten finden Sie auf der TRR-Website.\n\nIm Anhang finden Sie den Flyer fü
 r die Veranstaltung. Für Weitere Informationen erreichen Sie TRR unter d
 er Telefonnummer 0176-51 41 66 66.\n\nWir freuen uns auf einen regen Besu
 ch unseres Bahn-Festes\, um der Politik wieder deutlich zu machen\, wie w
 ichtig uns allen das Projekt ist.\n\nMit freundlichen Grüßen für den V
 orstand\n\nHannes Linck und Vincent Denefeld\n\nTrans Rhin Rail
CLASS:PUBLIC
DTSTART;TZID=Europe/Berlin:20260426T110000
DTEND;TZID=Europe/Berlin:20260426T170000
DTSTAMP:20260424T140755
END:VEVENT
END:VCALENDAR