BEGIN:VCALENDAR
VERSION:2.0
PRODID:gruene-breisgau-hochschwarzwald.de
METHOD:PUBLISH
BEGIN:VTIMEZONE
TZID:Europe/Berlin
X-LIC-LOCATION:Europe/Berlin
BEGIN:DAYLIGHT
TZOFFSETFROM:+0100
TZOFFSETTO:+0200
TZNAME:CEST
DTSTART:19700329T020000
RRULE:FREQ=YEARLY;INTERVAL=1;BYDAY=-1SU;BYMONTH=3
END:DAYLIGHT
BEGIN:STANDARD
TZOFFSETFROM:+0200
TZOFFSETTO:+0100
TZNAME:CET
DTSTART:19701025T030000
RRULE:FREQ=YEARLY;INTERVAL=1;BYDAY=-1SU;BYMONTH=10
END:STANDARD
END:VTIMEZONE
BEGIN:VEVENT
UID:a51fca0515fb899559aa32fd827e29ec@gruene-breisgau-hochschwarzwald.de
URL;VALUE=URI:https://gruene-breisgau-hochschwarzwald.de/termine/ak-klima
 schutz-11/
LOCATION:Grünes Büro, Rehlingstraße 16a, 79100 Freiburg
SUMMARY:AK Klimaschutz
DESCRIPTION;ALTREP="data:text/html,%0A%3Cp%3EInfos%20und%20Kontakt%20zum%
 C2%A0%3Ca%20href%3D%22https%3A%2F%2Fgruene-freiburg.de%2Fak-klimaschutz-2
 %2F%22%3EAK%20Klimaschutz%3C%2Fa%3E.%3Cbr%3E%3Cbr%3E%3Cbr%3E%3C%2Fp%3E%0A
 ":Infos und Kontakt zum AK Klimaschutz.
CLASS:PUBLIC
DTSTART;TZID=Europe/Berlin:20260423T180000
DTEND;TZID=Europe/Berlin:20260423T190000
DTSTAMP:20260420T022241
END:VEVENT
END:VCALENDAR