BEGIN:VCALENDAR
VERSION:2.0
PRODID:gruene-breisgau-hochschwarzwald.de
METHOD:PUBLISH
BEGIN:VTIMEZONE
TZID:Europe/Berlin
X-LIC-LOCATION:Europe/Berlin
BEGIN:DAYLIGHT
TZOFFSETFROM:+0100
TZOFFSETTO:+0200
TZNAME:CEST
DTSTART:19700329T020000
RRULE:FREQ=YEARLY;INTERVAL=1;BYDAY=-1SU;BYMONTH=3
END:DAYLIGHT
BEGIN:STANDARD
TZOFFSETFROM:+0200
TZOFFSETTO:+0100
TZNAME:CET
DTSTART:19701025T030000
RRULE:FREQ=YEARLY;INTERVAL=1;BYDAY=-1SU;BYMONTH=10
END:STANDARD
END:VTIMEZONE
BEGIN:VEVENT
UID:05110aff66277c5c511625581ad5fda7@gruene-breisgau-hochschwarzwald.de
URL;VALUE=URI:https://gruene-breisgau-hochschwarzwald.de/termine/ak-grue6
 0-19/
LOCATION:Haus des Engagements, Rehlingstraße 9, 79100 Freiburg
SUMMARY:AK grÜ60
DESCRIPTION;ALTREP="data:text/html,%0A%3Cp%3EKontakt%20und%20weitere%20In
 fos%20zum%C2%A0%3Ca%20href%3D%22https%3A%2F%2Fgruene-freiburg.de%2Fak-gru
 e60-gruene-alte%2F%22%3E%3Cstrong%3EAK%20gr%C3%9C60%3C%2Fstrong%3E%3C%2Fa
 %3E%C2%A0%28Gr%C3%BCne%20Alte%29.%3Cbr%3E%3Cbr%3E%3Cbr%3E%3Cbr%3E%3C%2Fp%
 3E%0A%0A%0A%0A%3Cp%3E%3C%2Fp%3E%0A":Kontakt und weitere Infos zum AK gr
 Ü60 (Grüne Alte).
CLASS:PUBLIC
DTSTART;TZID=Europe/Berlin:20260429T100000
DTEND;TZID=Europe/Berlin:20260429T110000
DTSTAMP:20260425T135838
END:VEVENT
END:VCALENDAR